Workbook

Sheet 1- resumé équipes 
A2: Appel à projets 2025 Conduites Addictives et Drogues (CAD) : Prévention, Mécanismes, Repérage et Accompagnement Annexe financière Renseignements administratifs
A3: Titre du projet | G3: - Veuillez compléter la 1ère partie de l'onglet Résumé équipes, puis les onglets Détails équipe pour chaque équipe participante. * onglet " résumé équipes" : cet onglet reprend automatiquement les 4 grands types de dépenses : personnel, fonctionnement, équipement et frais de gestion * onglet "coût total projet" : cet onglet reprend automatiquement les données à partir du Résumé équipes * onglet "détails équipe" : vous pouvez renseigner jusqu'à 5 équipes.
A4: Nom / Prénom du coordonnateur principal
A5: Organisme bénéficiaire de la subvention INCa/IReSP
A6: Nom / Prénom du représentant légal
A7: Nombre d'équipes
B9: Le tableau de synthèse, ci-dessous, est renseigné automatiquement à partir des données des détails par équipe des autres feuilles-onglets
B12: Personnel | F12: Fonctionnement | H12: Equipement | J12: Frais de gestion | L12: Total | N12: Recettes
B13: coût personnel statutaire | C13: coût personnel non statutaire | D13: coût total personnel | E13: subvention demandée | F13: coût total | G13: subvention demandée | H13: coût total | I13: subvention demandée | J13: coût total | K13: subvention demandée | L13: coût total | M13: subvention demandée | N13: subvention demandée | O13: autre(s) subvention(s) | P13: autres dont fonds propres
A14: ='3- détails équipe 1'!B5 -> 0 | B14: ='3- détails équipe 1'!B17 -> 0 | C14: ='3- détails équipe 1'!B22 -> 0 | D14: =SUM(B14+C14) -> 0 | E14: ='3- détails équipe 1'!C22 -> 0 | F14: ='3- détails équipe 1'!B27 -> 0 | G14: ='3- détails équipe 1'!C27 -> 0 | H14: ='3- détails équipe 1'!B32 -> 0 | I14: ='3- détails équipe 1'!C32 -> 0 | J14: ='3- détails équipe 1'!B34 -> 0 | K14: ='3- détails équipe 1'!C34 -> 0 | L14: =B14+C14+F14+H14+J14 -> 0 | M14: =E14+G14+I14+K14 -> 0 | N14: ='3- détails équipe 1'!B39 -> 0 | O14: ='3- détails équipe 1'!B40 -> 0 | P14: ='3- détails équipe 1'!B41 -> 0
A15: ='3- détails équipe 2'!B5 -> 0 | B15: ='3- détails équipe 2'!B17 -> 0 | C15: ='3- détails équipe 2'!B22 -> 0 | D15: =SUM(B15+C15) -> 0 | E15: ='3- détails équipe 2'!C22 -> 0 | F15: ='3- détails équipe 2'!B27 -> 0 | G15: ='3- détails équipe 2'!C27 -> 0 | H15: ='3- détails équipe 2'!B32 -> 0 | I15: ='3- détails équipe 2'!C32 -> 0 | J15: ='3- détails équipe 2'!B34 -> 0 | K15: ='3- détails équipe 2'!C34 -> 0 | L15: =B15+C15+F15+H15+J15 -> 0 | M15: =E15+G15+I15+K15 -> 0 | N15: ='3- détails équipe 2'!B40 -> 0 | O15: ='3- détails équipe 2'!B41 -> 0 | P15: ='3- détails équipe 2'!B42 -> 0
A16: ='3- détails équipe 3'!B5 -> 0 | B16: ='3- détails équipe 3'!B17 -> 0 | C16: ='3- détails équipe 3'!B22 -> 0 | D16: =SUM(B16+C16) -> 0 | E16: ='3- détails équipe 3'!C22 -> 0 | F16: ='3- détails équipe 3'!B27 -> 0 | G16: ='3- détails équipe 3'!C27 -> 0 | H16: ='3- détails équipe 3'!B32 -> 0 | I16: ='3- détails équipe 3'!C32 -> 0 | J16: ='3- détails équipe 3'!B34 -> 0 | K16: ='3- détails équipe 3'!C34 -> 0 | L16: =B16+C16+F16+H16+J16 -> 0 | M16: =E16+G16+I16+K16 -> 0 | N16: ='3- détails équipe 3'!B40 -> 0 | O16: ='3- détails équipe 3'!B41 -> 0 | P16: ='3- détails équipe 3'!B42 -> 0
A17: ='3- détails équipe 4'!B5 -> 0 | B17: ='3- détails équipe 4'!B18 -> 0 | C17: ='3- détails équipe 4'!B23 -> 0 | D17: =SUM(B17+C17) -> 0 | E17: ='3- détails équipe 4'!C23 -> 0 | F17: ='3- détails équipe 4'!B28 -> 0 | G17: ='3- détails équipe 4'!C28 -> 0 | H17: ='3- détails équipe 4'!B33 -> 0 | I17: ='3- détails équipe 4'!C33 -> 0 | J17: ='3- détails équipe 4'!B35 -> 0 | K17: ='3- détails équipe 4'!C35 -> 0 | L17: =B17+C17+F17+H17+J17 -> 0 | M17: =E17+G17+I17+K17 -> 0 | N17: ='3- détails équipe 4'!B40 -> 0 | O17: ='3- détails équipe 4'!B41 -> 0 | P17: ='3- détails équipe 4'!B42 -> 0
A18: ='3- détails équipe 5'!B5 -> 0 | B18: ='3- détails équipe 5'!B19 -> 0 | C18: ='3- détails équipe 5'!B24 -> 0 | D18: =SUM(B18+C18) -> 0 | E18: ='3- détails équipe 5'!C24 -> 0 | F18: ='3- détails équipe 5'!B29 -> 0 | G18: ='3- détails équipe 5'!C29 -> 0 | H18: ='3- détails équipe 5'!B34 -> 0 | I18: ='3- détails équipe 5'!C34 -> 0 | J18: ='3- détails équipe 5'!B36 -> 0 | K18: ='3- détails équipe 5'!C36 -> 0 | L18: =B18+C18+F18+H18+J18 -> 0 | M18: =E18+G18+I18+K18 -> 0 | N18: ='3- détails équipe 5'!B42 -> 0 | O18: ='3- détails équipe 5'!B43 -> 0 | P18: ='3- détails équipe 5'!B44 -> 0
A19: Total | B19: =SUM(B14:B18) -> 0 | C19: =SUM(C14:C18) -> 0 | D19: =SUM(D14:D18) -> 0 | E19: =SUM(E14:E18) -> 0 | F19: =SUM(F14:F18) -> 0 | G19: =SUM(G14:G18) -> 0 | H19: =SUM(H14:H18) -> 0 | I19: =SUM(I14:I18) -> 0 | ... K19: =SUM(K14:K18) -> 0 | L19: =B19+C19+F19+H19+J19 -> 0 | M19: =SUM(M14:M18) -> 0 | N19: =SUM(N14:N18) -> 0 | O19: =SUM(O14:O18) -> 0 | P19: =SUM(P14:P18) -> 0
A20: Le tableau de synthèse est renseigné automatiquement à partir des données des détails par équipe.

Sheet 2- coût total projet 
A2: Attention ce tableau est complété automatiquement à partir de l'onglet résumé par équipes
A3: ='1- resumé équipes '!A2:E2 -> Appel à projets 2025 Conduites Addictives et Drogues (CAD) : Prévention, Mécanismes, Repérage et Accompagnement Annexe financière Renseignements administratifs
A5: Titre du projet | B5: ='1- resumé équipes '!B3 -> 0
A6: Nom / Prénom du coordonnateur principal | B6: ='1- resumé équipes '!B4 -> 0
A7: Organisme bénéficiaire de la subvention INCa/IReSP | B7: ='1- resumé équipes '!B5 -> 0
A8: Nom / Prénom du représentant légal | B8: ='1- resumé équipes '!B6 -> 0
A9: Nombre d'équipes | B9: ='1- resumé équipes '!B7 -> 0
A11: Budget récapitulatif du projet
B12: DEPENSES DU PROJET (en €)
B13: Dépenses directes liées à l'exécution du projet | C13: Dépenses demandées et éligibles INCa/IRESP
A14: Dépenses de personnel relatives aux fonctionnaires d'état, hospitaliers, territoriaux ou internationaux | B14: ='1- resumé équipes '!B19 -> 0 | C14: non éligible
A16: Dépenses de personnel non statutaire | B16: ='1- resumé équipes '!C19 -> 0 | C16: ='1- resumé équipes '!E19 -> 0
A18: Dépenses de fonctionnement (1) | B18: ='1- resumé équipes '!F19 -> 0 | C18: ='1- resumé équipes '!G19 -> 0
A20: Dépenses d'équipement (2) | B20: ='1- resumé équipes '!H19 -> 0 | C20: ='1- resumé équipes '!I19 -> 0
A22: Frais de gestion (3) | B22: ='1- resumé équipes '!J19 -> 0 | C22: ='1- resumé équipes '!K19 -> 0
A24: TOTAL | B24: =B14+B16+B18+B20+B22 -> 0 | C24: =C16+C18+C20+C22 -> 0
B25: RECETTES LIEES AU PROJET (en €)
A27: Subvention demandée à l'INCa/IReSP | B27: ='1- resumé équipes '!N19 -> 0
A28: Autre(s) subvention(s) financant le projet (financeurs à préciser) | B28: ='1- resumé équipes '!O19 -> 0
A29: Autres ressources (à préciser) dont fonds propres du bénéficiaire (4) | B29: ='1- resumé équipes '!P19 -> 0
A30: TOTAL | B30: =B27+B28+B29 -> 0
A31: Le budget doit être présenté en équilibre : le montant pévisionnel des dépenses doit être égal au montant prévisionnel des recettes
A33: (1) achats de fournitures, prestations de services, locations, prestations intellectuelles, études, subventions versées, … (liste non exhaustive) (2) logiciels, équipements informatiques, gros matériels, … (consulter l'annexe de l'appel à projets) -L’achat de matériel informatique et de logiciels n’est admis que s’il est indispensable à la réalisation du projet et son utilisation précisément justifiée dans la description scientifique du projet mettant en exergue ses propriétés propres. L’aide accordée n’a pas pour objet d’équiper en bureautique standard les personnels affectés au projet (3) montant éligible s'élevant à un maximum de 8 % de l’ensemble du coût total des dépenses éligibles INCa/IReSP effectivement payées (personnel, fonctionnement, équipement) (4) toute autre ressource (dons, cessions, apport des équipes bénéficaires inclus… ) servant à financer le projet
A34: Date: Signature du représentant legal de l'organisme bénéficiaire: Cachet de l'organisme:

Sheet 3- détails équipe 1
A2: ='1- resumé équipes '!A2:E2 -> Appel à projets 2025 Conduites Addictives et Drogues (CAD) : Prévention, Mécanismes, Repérage et Accompagnement Annexe financière Renseignements administratifs
A3: Titre du projet | B3: ='1- resumé équipes '!B3 -> 0
A4: Nom / Prénom du coordonnateur principal | B4: ='1- resumé équipes '!B4 -> 0
A5: Equipe n° ( ) : nom / prénom du responsable d'équipe
A6: nom de l'organisme bénéficiaire d'une partie de la subvention
A7: Nom / Prénom du représentant légal
A8: Nom prénom et adresse email du responsable administratif chargé du suivi du projet
A9: Budget par équipe à détailler
A10: Veuiller compléter un onglet/feuille par équipe (ajout de ligne possible)
B11: DEPENSES DU PROJET (en €)
B12: Dépenses directes liées à l'exécution du projet | C12: Dépenses demandées et éligibles INCa/IRESP
A13: Dépenses de personnel relatives aux fonctionnaires d'état, hospitaliers, territoriaux ou internationaux | C13: Non éligible
A14: à détailler
A15: à détailler
A16: à détailler
A17: total dépenses de personnel (fonctionnaires d'état, hospitaliers ou territoriaux ) | B17: =SUM(B14:B16) -> 0
A18: Dépenses de personnel non statutaire
A19: à détailler
A20: à détailler
A21: à détailler
A22: total dépenses de personnel non statutaire | B22: =SUM(B19:B21) -> 0 | C22: =SUM(C19:C21) -> 0
A23: Dépenses de fonctionnement (1)
A24: à détailler
A25: à détailler
A26: à détailler
A27: total dépenses de fonctionnement | B27: =SUM(B24:B26) -> 0 | C27: =SUM(C24:C26) -> 0
A28: Dépenses d'équipement (2)
A29: à détailler
A30: à détailler
A31: à détailler
A32: total dépenses d'équipement | B32: =SUM(B29:B31) -> 0 | C32: =SUM(C29:C31) -> 0
A33: Frais de gestion (3)
A34: total dépenses des frais de gestion | B34: 0
A35: TOTAL | B35: =SUM(B17+B22+B27+B32+B34) -> 0 | C35: =SUM(C22+C27+C32+C34) -> 0
A36: Ajouter autant de lignes de budget que de détails
B37: RECETTES LIEES AU PROJET (en €)
A39: Subvention demandée à l'INCa/IReSP | B39: =C35 -> 0
A40: Autres subventions financant le projet (financeurs à préciser) :
A41: Autres ressources (à préciser) dont fonds propres du bénéficiaire (4) :
A42: TOTAL | B42: =B39+B40+B41 -> 0
...

Sheet 3- détails équipe 2
A2: ='1- resumé équipes '!A2:E2 -> Appel à projets 2025 Conduites Addictives et Drogues (CAD) : Prévention, Mécanismes, Repérage et Accompagnement Annexe financière Renseignements administratifs
A3: Titre du projet | B3: ='1- resumé équipes '!B3 -> 0
A4: Nom / Prénom du coordonnateur principal | B4: ='1- resumé équipes '!B4 -> 0
A5: Equipe n° ( ) : nom / prénom du responsable d'équipe
A6: nom de l'organisme bénéficiaire d'une partie de la subvention
A7: Nom / Prénom du représentant légal
A8: Nom prénom et adresse email du responsable administratif chargé du suivi du projet
A9: Budget par équipe à détailler
A10: Veuiller compléter un onglet/feuille par équipe (ajout de ligne possible)
B11: DEPENSES DU PROJET (en €)
B12: Dépenses directes liées à l'exécution du projet | C12: Dépenses demandées et éligibles INCa/IReSP
A13: Dépenses de personnel relatives aux fonctionnaires d'état, hospitaliers, territoriaux ou internationaux | C13: Non éligible
A14: à détailler
A15: à détailler
A16: à détailler
A17: total dépenses de personnel (fonctionnaires d'état, hospitaliers ou territoriaux ) | B17: =SUM(B14:B16) -> 0
A18: Dépenses de personnel non statutaire
A19: à détailler
A20: à détailler
A21: à détailler
A22: total dépenses de personnel non statutaire | B22: =SUM(B19:B21) -> 0 | C22: =SUM(C19:C21) -> 0
A23: Dépenses de fonctionnement (1)
A24: à détailler
A25: à détailler
A26: à détailler
A27: total dépenses de fonctionnement | B27: =SUM(B24:B26) -> 0 | C27: =SUM(C24:C26) -> 0
A28: Dépenses d'équipement (2)
A29: à détailler
A30: à détailler
A31: à détailler
A32: total dépenses d'équipement | B32: =SUM(B29:B31) -> 0 | C32: =SUM(C29:C31) -> 0
A33: Frais de gestion (3)
A34: total dépenses des frais de gestion | B34: 0 | C34: 0
A35: TOTAL | B35: =SUM(B17+B22+B27+B32+B34) -> 0 | C35: =SUM(C22+C27+C32+C34) -> 0
A37: Ajouter autant de lignes de budget que de détails
B38: RECETTES LIEES AU PROJET (en €)
A40: Subvention demandée à l'INCa/IReSP | B40: =C35 -> 0
A41: Autres subventions financant le projet (financeurs à préciser) : | B41: 0
A42: Autres ressources (à préciser) dont fonds propres du bénéficiaire (4) : | B42: 0
A43: TOTAL | B43: =B40+B41+B42 -> 0
...

Sheet 3- détails équipe 3
A2: ='1- resumé équipes '!A2:E2 -> Appel à projets 2025 Conduites Addictives et Drogues (CAD) : Prévention, Mécanismes, Repérage et Accompagnement Annexe financière Renseignements administratifs
A3: Titre du projet | B3: ='1- resumé équipes '!B3 -> 0
A4: Nom / Prénom du coordonnateur principal | B4: ='1- resumé équipes '!B4 -> 0
A5: Equipe n° ( ) : nom / prénom du responsable d'équipe
A6: nom de l'organisme bénéficiaire d'une partie de la subvention
A7: Nom / Prénom du représentant légal
A8: Nom prénom et adresse email du responsable administratif chargé du suivi du projet
A9: Budget par équipe à détailler
A10: Veuiller compléter un onglet/feuille par équipe (ajout de ligne possible)
B11: DEPENSES DU PROJET (en €)
B12: Dépenses directes liées à l'exécution du projet | C12: Dépenses demandées et éligibles INCa/IReSP
A13: Dépenses de personnel relatives aux fonctionnaires d'état, hospitaliers, territoriaux ou internationaux | C13: Non éligible
A14: à détailler
A15: à détailler
A16: à détailler
A17: total dépenses de personnel (fonctionnaires d'état, hospitaliers ou territoriaux ) | B17: =SUM(B14:B16) -> 0
A18: Dépenses de personnel non statutaire
A19: à détailler
A20: à détailler
A21: à détailler
A22: total dépenses de personnel non statutaire | B22: =SUM(B19:B21) -> 0 | C22: =SUM(C19:C21) -> 0
A23: Dépenses de fonctionnement (1)
A24: à détailler
A25: à détailler
A26: à détailler
A27: total dépenses de fonctionnement | B27: =SUM(B24:B26) -> 0 | C27: =SUM(C24:C26) -> 0
A28: Dépenses d'équipement (2)
A29: à détailler
A30: à détailler
A31: à détailler
A32: total dépenses d'équipement | B32: =SUM(B29:B31) -> 0 | C32: =SUM(C29:C31) -> 0
A33: Frais de gestion (3)
A34: total dépenses des frais de gestion | B34: 0 | C34: 0
A35: TOTAL | B35: =SUM(B17+B22+B27+B32+B34) -> 0 | C35: =SUM(C22+C27+C32+C34) -> 0
A37: Ajouter autant de lignes de budget que de détails
B38: RECETTES LIEES AU PROJET (en €)
A40: Subvention demandée à l'INCa/IReSP | B40: =C35 -> 0
A41: Autres subventions financant le projet (financeurs à préciser) : | B41: 0
A42: Autres ressources (à préciser) dont fonds propres du bénéficiaire (4) : | B42: 0
A44: TOTAL | B44: =B40+B41+B42 -> 0
...

Sheet 3- détails équipe 4
A2: ='1- resumé équipes '!A2:E2 -> Appel à projets 2025 Conduites Addictives et Drogues (CAD) : Prévention, Mécanismes, Repérage et Accompagnement Annexe financière Renseignements administratifs
A3: Titre du projet | B3: ='1- resumé équipes '!B3 -> 0
A4: Nom / Prénom du coordonnateur principal | B4: ='1- resumé équipes '!B4 -> 0
A5: Equipe n° ( ) : nom / prénom du responsable d'équipe
A6: nom de l'organisme bénéficiaire d'une partie de la subvention
A7: Nom / Prénom du représentant légal
A8: Nom prénom et adresse email du responsable administratif chargé du suivi du projet
A10: Budget par équipe à détailler
A11: Veuiller compléter un onglet/feuille par équipe (ajout de ligne possible)
B12: DEPENSES DU PROJET (en €)
B13: Dépenses directes liées à l'exécution du projet | C13: Dépenses demandées et éligibles INCa/IReSP
A14: Dépenses de personnel relatives aux fonctionnaires d'état, hospitaliers, territoriaux ou internationaux | C14: Non éligible
A15: à détailler
A16: à détailler
A17: à détailler
A18: total dépenses de personnel (fonctionnaires d'état, hospitaliers ou territoriaux ) | B18: =SUM(B15:B17) -> 0
A19: Dépenses de personnel non statutaire
A20: à détailler
A21: à détailler
A22: à détailler
A23: total dépenses de personnel non statutaire | B23: =SUM(B20:B22) -> 0 | C23: =SUM(C20:C22) -> 0
A24: Dépenses de fonctionnement (1)
A25: à détailler
A26: à détailler
A27: à détailler
A28: total dépenses de fonctionnement | B28: =SUM(B25:B27) -> 0 | C28: =SUM(C25:C27) -> 0
A29: Dépenses d'équipement (2)
A30: à détailler
A31: à détailler
A32: à détailler
A33: total dépenses d'équipement | B33: =SUM(B30:B32) -> 0 | C33: =SUM(C30:C32) -> 0
A34: Frais de gestion (3)
A35: total dépenses des frais de gestion | B35: 0 | C35: 0
A36: TOTAL | B36: =SUM(B18+B23+B28+B33+B35) -> 0 | C36: =SUM(C23+C28+C33+C35) -> 0
A37: Ajouter autant de lignes de budget que de détails
B38: RECETTES LIEES AU PROJET (en €)
A40: Subvention demandée à l'INCa/IReSP | B40: =C36 -> 0
A41: Autres subventions financant le projet (financeurs à préciser) : | B41: 0
A42: Autres ressources (à préciser) dont fonds propres du bénéficiaire (4) : | B42: 0
A43: TOTAL | B43: =B40+B41+B42 -> 0
...

Sheet 3- détails équipe 5
A2: ='1- resumé équipes '!A2:E2 -> Appel à projets 2025 Conduites Addictives et Drogues (CAD) : Prévention, Mécanismes, Repérage et Accompagnement Annexe financière Renseignements administratifs
A3: Titre du projet | B3: ='1- resumé équipes '!B3 -> 0
A4: Nom / Prénom du coordonnateur principal | B4: ='1- resumé équipes '!B4 -> 0
A5: Equipe n° ( ) : nom / prénom du responsable d'équipe
A6: nom de l'organisme bénéficiaire d'une partie de la subvention
A7: Nom / Prénom du représentant légal
A8: Nom prénom et adresse email du responsable administratif chargé du suivi du projet
A11: Budget par équipe à détailler
A12: Veuiller compléter un onglet/feuille par équipe (ajout de ligne possible)
B13: DEPENSES DU PROJET (en €)
B14: Dépenses directes liées à l'exécution du projet | C14: Dépenses demandées et éligibles INCa/IReSP
A15: Dépenses de personnel relatives aux fonctionnaires d'état, hospitaliers, territoriaux ou internationaux | C15: Non éligible
A16: à détailler
A17: à détailler
A18: à détailler
A19: total dépenses de personnel (fonctionnaires d'état, hospitaliers ou territoriaux ) | B19: =SUM(B16:B18) -> 0
A20: Dépenses de personnel non statutaire
A21: à détailler
A22: à détailler
A23: à détailler
A24: total dépenses de personnel non statutaire | B24: =SUM(B21:B23) -> 0 | C24: =SUM(C21:C23) -> 0
A25: Dépenses de fonctionnement (1)
A26: à détailler
A27: à détailler
A28: à détailler
A29: total dépenses de fonctionnement | B29: =SUM(B26:B28) -> 0 | C29: =SUM(C26:C28) -> 0
A30: Dépenses d'équipement (2)
A31: à détailler
A32: à détailler
A33: à détailler
A34: total dépenses d'équipement | B34: =SUM(B31:B33) -> 0 | C34: =SUM(C31:C33) -> 0
A35: Frais de gestion (3)
A36: total dépenses des frais de gestion | B36: 0 | C36: 0
A37: TOTAL | B37: =SUM(B19+B24+B29+B34+B36) -> 0 | C37: =SUM(C24+C29+C34+C36) -> 0
A39: Ajouter autant de lignes de budget que de détails
B40: RECETTES LIEES AU PROJET (en €)
A42: Subvention demandée à l'INCa/IReSP | B42: =C37 -> 0
A43: Autres subventions financant le projet (financeurs à préciser) : | B43: 0
A44: Autres ressources (à préciser) dont fonds propres du bénéficiaire (4) : | B44: 0
A45: TOTAL | B45: =B42+B43+B44 -> 0
...

Sheet Feuil1
